BEGIN:VCALENDAR
VERSION:2.0
PRODID:-//wp-events-plugin.com//7.2.3.1//EN
TZID:Europe/Berlin
X-WR-TIMEZONE:Europe/Berlin
BEGIN:VEVENT
UID:284@tc-bw-horn.de
DTSTART;TZID=Europe/Berlin:20250119T150000
DTEND;TZID=Europe/Berlin:20250119T180000
DTSTAMP:20250109T103233Z
URL:https://tc-bw-horn.de/events/cardio-tennis/
SUMMARY:Cardio-Tennis
DESCRIPTION:
ATTACH;FMTTYPE=image/jpeg:https://tc-bw-horn.de/wp-content/uploads/2025/01
 /Cardio-Tennis-und-freies-Spiel_20250109_112900_0000.webp
END:VEVENT
BEGIN:VTIMEZONE
TZID:Europe/Berlin
X-LIC-LOCATION:Europe/Berlin
BEGIN:STANDARD
DTSTART:20241027T020000
TZOFFSETFROM:+0200
TZOFFSETTO:+0100
TZNAME:CET
END:STANDARD
END:VTIMEZONE
END:VCALENDAR